Workbook

Sheet Sheet1
I2: p- nitrofenolio koncentracija, 10-3mol/L | J2: Sugertis, (sant. v.)
I3: 0.3 | J3: 3.5616
I4: 0.225 | J4: 3.4378
I5: 0.2 | J5: 3.3167
I6: 0.175 | J6: 3.0289
I7: 0.15 | J7: 2.6501
I8: 0.125 | J8: 2.2372
I9: 0.1 | J9: 1.743
I10: 0.075 | J10: 1.3243
I11: 0.06 | J11: 1.0466
I12: 0.045 | J12: 0.7434
I13: 0.03 | J13: 0.4908
I14: 0.015 | J14: 0.2348
I15: 0.005 | J15: 0.0542
I17: 0.006 | J17: =FORECAST(I17,$J$3:$J$15,$I$3:$I$15) -> 0.33084644 | K17: 0.41217144
I18: 0.007 | J18: =FORECAST(I18,$J$3:$J$15,$I$3:$I$15) -> 0.3445594 | K18: 0.3615251
I19: 0.008 | J19: =FORECAST(I19,$J$3:$J$15,$I$3:$I$15) -> 0.35827237 | K19: 0.54725522
I20: 0.009 | J20: =FORECAST(I20,$J$3:$J$15,$I$3:$I$15) -> 0.37198533 | K20: 0.42715884
I21: 0.01 | J21: =FORECAST(I21,$J$3:$J$15,$I$3:$I$15) -> 0.38569829 | K21: 0.56155299
I22: 0.011 | J22: =FORECAST(I22,$J$3:$J$15,$I$3:$I$15) -> 0.39941125 | K22: 0.56811281
I23: 0.012 | J23: =FORECAST(I23,$J$3:$J$15,$I$3:$I$15) -> 0.41312421 | K23: 0.50257773
I24: 0.013 | J24: =FORECAST(I24,$J$3:$J$15,$I$3:$I$15) -> 0.42683717 | K24: 0.46239405
I25: 0.014 | J25: =FORECAST(I25,$J$3:$J$15,$I$3:$I$15) -> 0.44055014 | K25: 0.55127763
I26: 0.015 | J26: =FORECAST(I26,$J$3:$J$15,$I$3:$I$15) -> 0.4542631 | K26: 0.57891974
I27: 0.016 | J27: =FORECAST(I27,$J$3:$J$15,$I$3:$I$15) -> 0.46797606 | K27: 0.50213791
I28: 0.017 | J28: =FORECAST(I28,$J$3:$J$15,$I$3:$I$15) -> 0.48168902 | K28: 0.57140815
... I220: 0.209 | J220: =FORECAST(I220,$J$3:$J$15,$I$3:$I$15) -> 3.1145777 | K220: 3.2038054
I232: 0.212 | J232: 3.15 | K232: 3.2544868
I233: 0.215 | J233: 3.2 | K233: 3.2483217
I234: 0.22 | J234: 3.33 | K234: 3.3728231
I235: 0.225 | J235: 3.4378 | K235: 3.6249704
I236: 0.24 | J236: =FORECAST(I236,$J$3:$J$4,$I$3:$I$4) -> 3.46256 | K236: 3.5012415
I237: 0.25 | J237: =FORECAST(I237,$J$3:$J$4,$I$3:$I$4) -> 3.4790667 | K237: 3.5993995
I238: 0.26 | J238: =FORECAST(I238,$J$3:$J$4,$I$3:$I$4) -> 3.4955733 | K238: 3.5977213
I239: 0.27 | J239: =FORECAST(I239,$J$3:$J$4,$I$3:$I$4) -> 3.51208 | K239: 3.5660002
I240: 0.28 | J240: =FORECAST(I240,$J$3:$J$4,$I$3:$I$4) -> 3.5285867 | K240: 3.6476418
I241: 0.29 | J241: =FORECAST(I241,$J$3:$J$4,$I$3:$I$4) -> 3.5450933 | K241: 3.7021636
I242: 0.3 | J242: =FORECAST(I242,$J$3:$J$4,$I$3:$I$4) -> 3.5616 | K242: 3.7178866
I243: 0.31 | J243: =FORECAST(I243,$J$3:$J$4,$I$3:$I$4) -> 3.5781067 | K243: 3.7701893
I244: 0.32 | J244: =FORECAST(I244,$J$3:$J$4,$I$3:$I$4) -> 3.5946133 | K244: 3.6279096
...

Sheet Duomenys
B1: konc., mM | C1: Sugertis, s.v. | D1: exp.
B2: 0.006 | C2: 0.41217144 | D2: =C2-(RAND()/5) -> 0.30928513
B3: 0.007 | C3: 0.3615251 | D3: =C3-(RAND()/5) -> 0.16673502
B4: 0.008 | C4: 0.54725522 | D4: =C4-(RAND()/5) -> 0.46932037
B5: 0.009 | C5: 0.42715884 | D5: =C5-(RAND()/5) -> 0.38476138
B6: 0.01 | C6: 0.56155299 | D6: =C6-(RAND()/5) -> 0.42464127
B7: 0.011 | C7: 0.56811281 | D7: =C7-(RAND()/5) -> 0.4007323
B8: 0.012 | C8: 0.50257773 | D8: =C8-(RAND()/5) -> 0.39776131
B9: 0.013 | C9: 0.46239405 | D9: =C9-(RAND()/5) -> 0.40154209
B10: 0.014 | C10: 0.55127763 | D10: =C10-(RAND()/5) -> 0.44918432
B11: 0.015 | C11: 0.57891974 | D11: =C11-(RAND()/5) -> 0.44798683
B12: 0.016 | C12: 0.50213791 | D12: =C12-(RAND()/5) -> 0.49102809
B13: 0.017 | C13: 0.57140815 | D13: =C13-(RAND()/5) -> 0.4819176
... B219: 0.33 | C219: 3.7612304 | D219: =C219-(RAND()/5) -> 3.6158364

Sheet Exp1
B2: Naudojant aštuonis skirtingos koncentracijos (0,005-0,3 mM) p-nitrofenolio tirpalus, paruoškite kalibracinį tirpalo sugerties priklausomybės nuo p-nitrofenolio koncentracijos grafiką.
F3: =VLOOKUP(C8,Duomenys!B:D,3,TRUE) -> #N/A
C7: Įveskite tiriamą p-nitrofenolio koncentraciją, mM: | E7: Sugertis, 400 nm:
E8: =VLOOKUP(C8,Duomenys!B:D,3,TRUE) -> #N/A | H8: Skaitinės vertės formatas
E11: =VLOOKUP(C8,Duomenys!B:D,3,TRUE) -> #N/A | H11: Spalvos skalės formatas
E13: 5
E14: 0
E17: =VLOOKUP(C8,Duomenys!B:D,3,TRUE) -> #N/A | H17: Proporcijos / skalės formatas
E21: 5 | F21: =5
E24: =VLOOKUP(C24,Duomenys!B:D,3,TRUE) -> #N/A | H24: Riboto pasirinkimo
E26: =VLOOKUP(C26,Duomenys!B:D,3,TRUE) -> #N/A | H26: Ribotos įvesties
